<?xml version="1.0" encoding="UTF-8" standalone="no"?>
<metadata xml:lang="en">
<Esri>
<CreaDate>20180330</CreaDate>
<CreaTime>13490500</CreaTime>
<ArcGISFormat>1.0</ArcGISFormat>
<SyncOnce>FALSE</SyncOnce>
<DataProperties>
<itemProps>
<itemName Sync="TRUE">statewideTreeCover_1bit</itemName>
<nativeExtBox>
<westBL Sync="TRUE">387673.415741</westBL>
<eastBL Sync="TRUE">3085719.200741</eastBL>
<southBL Sync="TRUE">18312.259061</southBL>
<northBL Sync="TRUE">1071869.863227</northBL>
<exTypeCode Sync="TRUE">1</exTypeCode>
</nativeExtBox>
<imsContentType Sync="TRUE">002</imsContentType>
</itemProps>
<coordRef>
<type Sync="TRUE">Projected</type>
<geogcsn Sync="TRUE">GCS_North_American_1983</geogcsn>
<csUnits Sync="TRUE">Linear Unit: Foot_US (0.304801)</csUnits>
<projcsn Sync="TRUE">NAD_1983_StatePlane_North_Carolina_FIPS_3200_Feet</projcsn>
<peXml Sync="TRUE">&lt;ProjectedCoordinateSystem xsi:type='typens:ProjectedCoordinateSystem' xmlns:xsi='http://www.w3.org/2001/XMLSchema-instance' xmlns:xs='http://www.w3.org/2001/XMLSchema' xmlns:typens='http://www.esri.com/schemas/ArcGIS/10.4'&gt;&lt;WKT&gt;PROJCS[&amp;quot;NAD_1983_StatePlane_North_Carolina_FIPS_3200_Feet&amp;quot;,GEOGCS[&amp;quot;GCS_North_American_1983&amp;quot;,DATUM[&amp;quot;D_North_American_1983&amp;quot;,SPHEROID[&amp;quot;GRS_1980&amp;quot;,6378137.0,298.257222101]],PRIMEM[&amp;quot;Greenwich&amp;quot;,0.0],UNIT[&amp;quot;Degree&amp;quot;,0.0174532925199433]],PROJECTION[&amp;quot;Lambert_Conformal_Conic&amp;quot;],PARAMETER[&amp;quot;False_Easting&amp;quot;,2000000.002616666],PARAMETER[&amp;quot;False_Northing&amp;quot;,0.0],PARAMETER[&amp;quot;Central_Meridian&amp;quot;,-79.0],PARAMETER[&amp;quot;Standard_Parallel_1&amp;quot;,34.33333333333334],PARAMETER[&amp;quot;Standard_Parallel_2&amp;quot;,36.16666666666666],PARAMETER[&amp;quot;Latitude_Of_Origin&amp;quot;,33.75],UNIT[&amp;quot;Foot_US&amp;quot;,0.3048006096012192],AUTHORITY[&amp;quot;EPSG&amp;quot;,2264]]&lt;/WKT&gt;&lt;XOrigin&gt;-121841900&lt;/XOrigin&gt;&lt;YOrigin&gt;-93659000&lt;/YOrigin&gt;&lt;XYScale&gt;36365718.124241434&lt;/XYScale&gt;&lt;ZOrigin&gt;-100000&lt;/ZOrigin&gt;&lt;ZScale&gt;10000&lt;/ZScale&gt;&lt;MOrigin&gt;-100000&lt;/MOrigin&gt;&lt;MScale&gt;10000&lt;/MScale&gt;&lt;XYTolerance&gt;0.0032808333333333331&lt;/XYTolerance&gt;&lt;ZTolerance&gt;0.001&lt;/ZTolerance&gt;&lt;MTolerance&gt;0.001&lt;/MTolerance&gt;&lt;HighPrecision&gt;true&lt;/HighPrecision&gt;&lt;WKID&gt;102719&lt;/WKID&gt;&lt;LatestWKID&gt;2264&lt;/LatestWKID&gt;&lt;/ProjectedCoordinateSystem&gt;</peXml>
</coordRef>
</DataProperties>
<SyncDate>20191101</SyncDate>
<SyncTime>12435200</SyncTime>
<ModDate>20191101</ModDate>
<ModTime>12435200</ModTime>
</Esri>
<eainfo>
<detailed Name="VAT_statewideTreeCover_1bit">
<enttyp>
<enttypl Sync="TRUE">VAT_statewideTreeCover_1bit</enttypl>
<enttypt Sync="TRUE">Table</enttypt>
<enttypc Sync="TRUE">2</enttypc>
</enttyp>
<attr>
<attrlabl Sync="TRUE">OBJECTID</attrlabl>
<attalias Sync="TRUE">OBJECTID</attalias>
<attrtype Sync="TRUE">OID</attrtype>
<attwidth Sync="TRUE">4</attwidth>
<atprecis Sync="TRUE">0</atprecis>
<attscale Sync="TRUE">0</attscale>
<attrdef Sync="TRUE">Internal feature number.</attrdef>
<attrdefs Sync="TRUE">Esri</attrdefs>
<attrdomv>
<udom Sync="TRUE">Sequential unique whole numbers that are automatically generated.</udom>
</attrdomv>
</attr>
<attr>
<attrlabl Sync="TRUE">Value</attrlabl>
<attalias Sync="TRUE">Value</attalias>
<attrtype Sync="TRUE">Integer</attrtype>
<attwidth Sync="TRUE">4</attwidth>
<atprecis Sync="TRUE">0</atprecis>
<attscale Sync="TRUE">0</attscale>
</attr>
<attr>
<attrlabl Sync="TRUE">Count</attrlabl>
<attalias Sync="TRUE">Count</attalias>
<attrtype Sync="TRUE">Double</attrtype>
<attwidth Sync="TRUE">8</attwidth>
<atprecis Sync="TRUE">0</atprecis>
<attscale Sync="TRUE">0</attscale>
</attr>
</detailed>
</eainfo>
<mdFileID>file_name</mdFileID>
<mdLang>
<languageCode value="eng">
</languageCode>
<countryCode Sync="TRUE" value="USA">
</countryCode>
</mdLang>
<mdChar>
<CharSetCd value="004">
</CharSetCd>
</mdChar>
<mdHrLv>
<ScopeCd value="005">
</ScopeCd>
</mdHrLv>
<mdHrLvName Sync="TRUE">dataset</mdHrLvName>
<mdContact>
<rpIndName>Daniel Madding</rpIndName>
<rpOrgName>NCDA&amp;CS</rpOrgName>
<rpPosName>ISS Director</rpPosName>
<rpCntInfo>
<cntPhone>
<voiceNum>919-807-4344</voiceNum>
</cntPhone>
<cntAddress>
<delPoint>1035 Mail Service Center</delPoint>
<city>Raleigh</city>
<adminArea>North Carolina</adminArea>
<postCode>27699</postCode>
<country>US</country>
<eMailAdd>daniel.madding@ncagr.gov</eMailAdd>
</cntAddress>
<cntHours>8:00 AM - 5:00 PM M - F</cntHours>
</rpCntInfo>
<role>
<RoleCd value="002">
</RoleCd>
</role>
</mdContact>
<mdDateSt Sync="TRUE">20191101</mdDateSt>
<mdStanName>ArcGIS Metadata</mdStanName>
<mdStanVer>1.0</mdStanVer>
<distInfo>
<distFormat>
<formatName Sync="TRUE">File Geodatabase Raster Dataset</formatName>
<formatVer>Tiff</formatVer>
</distFormat>
<distTranOps>
<transSize>0.002</transSize>
</distTranOps>
</distInfo>
<dataIdInfo>
<idCitation>
<resTitle Sync="TRUE">statewideTreeCover_1bit</resTitle>
<resAltTitle>NAIP derived Tree Canopy for North Carolina</resAltTitle>
<date>
<createDate>2016-06-01T00:00:00</createDate>
<pubDate>2017-07-01T00:00:00</pubDate>
</date>
<citRespParty>
<rpIndName>Daniel Madding</rpIndName>
<rpOrgName>NCDA&amp;CS</rpOrgName>
<rpPosName>ISS Director</rpPosName>
<rpCntInfo>
<cntPhone>
<voiceNum>919-807-4344</voiceNum>
</cntPhone>
<cntAddress>
<delPoint>1035 Mail Service Center</delPoint>
<city>Raleigh</city>
<adminArea>North Carolina</adminArea>
<postCode>27699</postCode>
<country>US</country>
<eMailAdd>daniel.madding@ncagr.gov</eMailAdd>
</cntAddress>
<cntHours>8:00 AM - 5:00 PM M - F</cntHours>
<cntInstr>Email first.</cntInstr>
</rpCntInfo>
<role>
<RoleCd value="002">
</RoleCd>
</role>
</citRespParty>
<presForm>
<PresFormCd value="005">
</PresFormCd>
</presForm>
<otherCitDet>A decision rule supervised classification process was specifically designed around the tonal differences inherent in NAIP imagery. It used with spectral and textural information derived for each NAIP Tile. To Quality Control the data should be displayed over the 2016 NAIP imagery. There is a map service for that imagery.</otherCitDet>
<collTitle>Tree Canopy for North Carolina derived from NAIP imagery</collTitle>
</idCitation>
<idAbs>This dataset was created by the North Carolina Department of Agriculture and Consumer Services. Tree land cover data was derived from the North Carolina 2016 NAIP image tiles for the entire state. The data is currently in a raster format in an ESRI file geodatabase.</idAbs>
<idPurp>To show land in North Carolina that has trees or forest land cover during the Summer 2016.</idPurp>
<idCredit>North Carolina Department of Agriculture &amp; Consumer Services (NCDA&amp;CS) and Frank Obusek (contractor)</idCredit>
<idStatus>
<ProgCd value="001">
</ProgCd>
</idStatus>
<idPoC>
<rpIndName>Daniel Madding</rpIndName>
<rpOrgName>NCDA&amp;CS</rpOrgName>
<rpPosName>ISS Director</rpPosName>
<rpCntInfo>
<cntPhone>
<voiceNum>919-807-4300</voiceNum>
</cntPhone>
<cntAddress>
<delPoint>1035 Mail Service Center</delPoint>
<city>Raleigh</city>
<adminArea>North Carolina</adminArea>
<postCode>27699</postCode>
<country>US</country>
<eMailAdd>daniel.madding@ncagr.gov</eMailAdd>
</cntAddress>
<cntHours>8:00 AM - 5:00 PM M - F</cntHours>
<cntInstr>Email first.</cntInstr>
</rpCntInfo>
<role>
<RoleCd value="002">
</RoleCd>
</role>
</idPoC>
<resMaint>
<maintFreq>
<MaintFreqCd value="001">
</MaintFreqCd>
</maintFreq>
</resMaint>
<discKeys>
<keyword>Supervised classification/ remote sensing.</keyword>
</discKeys>
<placeKeys>
<keyword>North Carolina</keyword>
</placeKeys>
<themeKeys>
<keyword>Tree Canopy, Forest Land Cover.</keyword>
</themeKeys>
<searchKeys>
<keyword>Supervised classification/ remote sensing.</keyword>
<keyword>Tree Canopy</keyword>
<keyword>Forest Land Cover.</keyword>
<keyword>North Carolina</keyword>
</searchKeys>
<resConst>
<Consts>
<useLimit>For large area applications, such as tree canopy per square mile analysis for a watershed or county, the data is pretty good as it stands. For more local tree land cover efforts, such as Urban Tree Canopy assessments, it is recommended that the data be evaluated for the application and, if necessary, further edited either manually or using other geospatial post-processing tools. The scope of the project in terms of time and cost did not allow for significant manual editing for local applications on a municipal level or city. This data is not a survey or sruvey quality and should not be used as a legal document. Field verification of all data is required for site-specific projects. The use of this GIS data should be consistent with NCGS 106.24.1.</useLimit>
</Consts>
</resConst>
<spatRpType>
<SpatRepTypCd value="001">
</SpatRepTypCd>
</spatRpType>
<dataLang>
<languageCode value="eng">
</languageCode>
<countryCode Sync="TRUE" value="USA">
</countryCode>
</dataLang>
<dataChar>
<CharSetCd value="004">
</CharSetCd>
</dataChar>
<tpCat>
<TopicCatCd value="007">
</TopicCatCd>
</tpCat>
<envirDesc Sync="TRUE"> Version 6.2 (Build 9200) ; Esri ArcGIS 10.4.1.5686</envirDesc>
<dataExt>
<geoEle>
<GeoBndBox>
<exTypeCode>true</exTypeCode>
<westBL>-79.8678</westBL>
<eastBL>-79.8546</eastBL>
<southBL>36.1331</southBL>
<northBL>36.1441</northBL>
</GeoBndBox>
</geoEle>
</dataExt>
<dataExt>
<geoEle>
<GeoBndBox>
<exTypeCode>true</exTypeCode>
<westBL>-84.044934</westBL>
<eastBL>-76.217463</eastBL>
<southBL>33.941649</southBL>
<northBL>36.436171</northBL>
</GeoBndBox>
</geoEle>
</dataExt>
<dataExt>
<geoEle>
<GeoBndBox>
<exTypeCode>true</exTypeCode>
<westBL>-84.260277</westBL>
<eastBL>-75.824518</eastBL>
<southBL>33.922077</southBL>
<northBL>36.571709</northBL>
</GeoBndBox>
</geoEle>
</dataExt>
<dataExt>
<geoEle>
<GeoBndBox>
<exTypeCode>true</exTypeCode>
<westBL>-80.816814</westBL>
<eastBL>-80.245492</eastBL>
<southBL>35.120754</southBL>
<northBL>35.567399</northBL>
</GeoBndBox>
</geoEle>
</dataExt>
<suppInfo>A decision rule supervised classification process was specifically designed around the tonal differences inherent in NAIP imagery. It used with spectral and textural information derived for each NAIP Tile. A total of 3,564 tiles and 16TBs of data were processed in a 10-week timeframe. The classification resulted in a 2-class classification schema. Class 1 is Canopy and Class 2 Non-Canopy. Class 2 is set to transparent by default. Texture processing was applied to reduce mixed pixel values between tree canopy, healthy grass and agriculture land areas. These features have similar vegetation spectral response and would otherwise result in a significant number of mis-classified pixels. In many areas however, agriculture and grass land areas containing higher texture values still resulted in mixed canopy pixels. The approached is still an improved process compared to only using spectral information in the NAIP imagery. To meet the short 2-month timeframe of the project, automated and semi-automated processing methods were used in a series of batch processing models. The process derived indices and ratio layers that were then used in the decision rule process. Thematic raster post processing was then used to clean-up the data. The result is a 2-bit thematic raster TIF file for each NAIP tile with the extension "_canopy.tif". Manual editing or clean-up was not used at any time during the project to correct mixed pixels since it was out of the budgetary scope of the project. Sections: The NAIP Tiles were processes in batch processes defined by the date of acquisition documented in the attribute table of the NAIP imagery. The attribute "SrcImgDate" was used to derive 35 working project sections across NAIP tiles. For example, the naming convention used "08-v2a_2016-0526-northcentrl.zip". This zip file contains the TIF tiles of the tree canopy data for Section 8 that includes imagery acquired on or around May 26th, 2016 in the North Central portion of the state of NC. "v2a" represents a versioning (Version 2a) based on small modifications that were made during raster processing which required all the imagery in that specific section to be reprocessed. The “versioning” is not necessarily important unless future modifications in the process. Applications: This section is very important, especially for general users of remote sensing and GIS data. For large area applications, such as tree canopy per square mile analysis for a watershed or county, the data is pretty good as it stands. For more local tree canopy efforts, such as Urban Tree Canopy assessments, it is recommended that the data be evaluated for the application and, if necessary, further edited either manually or using other geospatial post-processing tools. The scope of the project in terms of time and cost did not allow for significant manual editing for local applications on a municipal level or city. For these types of local applications of the tree canopy data the existing thematic raster data can be further modified to meet end-user requirements. If proven useful, the project processes can be repeated for each NAIP Acquisition for North Carolina and/or other states.  </suppInfo>
<dataExt>
<geoEle>
<GeoBndBox esriExtentType="search">
<exTypeCode Sync="TRUE">1</exTypeCode>
<westBL Sync="TRUE">-84.492495</westBL>
<eastBL Sync="TRUE">-75.299363</eastBL>
<northBL Sync="TRUE">36.694821</northBL>
<southBL Sync="TRUE">33.682010</southBL>
</GeoBndBox>
</geoEle>
</dataExt>
</dataIdInfo>
<mdMaint>
<maintFreq>
<MaintFreqCd value="011">
</MaintFreqCd>
</maintFreq>
</mdMaint>
<mdConst>
<LegConsts>
<useLimit>This data is not a survey and should not be used as a legal document. Efforts have been made to ensure the accuracy of information in this dataset, but errors may exist. The requester must be aware of data conditions and ultimately bear responsibility for the appropriate use. This data is not a survey and should not be used as a legal document. Field verification of all data is required for site-specific projects. The use of this GIS data should be consistent with NCGS 106.24.1.</useLimit>
</LegConsts>
</mdConst>
<mdConst>
<Consts>
<useLimit>The three main imperfections of the data include: 1.) agricultural crop field pixels being classified as canopy, 2.) Tonal difference inherent in the NAIP processing resulting in missed canopy pixels, mainly in visible tree canopy areas with “smooth” texture, and 3.) Conifer tree stands being missed in the classification due to lower vegetation values outside of the decision rule threshold that would have otherwise included more non-canopy vegetation pixels being classified as tree canopy. These 3 issues can be resolved by the end-user using manual editing or localized classification approaches to modify the current data product.</useLimit>
</Consts>
</mdConst>
<dqInfo>
<dqScope>
<scpLvl>
<ScopeCd value="005">
</ScopeCd>
</scpLvl>
</dqScope>
<dataLineage>
<prcStep>
<stepDesc>REQUIRED: Provide a description of how the data were created and indicate source data, used where applicable. This is a repeatable element so can be used to provide a single, compiled description or a series of process step descriptions.</stepDesc>
</prcStep>
</dataLineage>
</dqInfo>
<spatRepInfo>
<VectSpatRep>
<topLvl>
<TopoLevCd value="001">
</TopoLevCd>
</topLvl>
<geometObjs>
<geoObjTyp>
<GeoObjTypCd value="004">
</GeoObjTypCd>
</geoObjTyp>
<geoObjCnt>1178</geoObjCnt>
</geometObjs>
</VectSpatRep>
</spatRepInfo>
<refSysInfo>
<RefSystem>
<refSysID>
<identCode code="EPSG:2264">
</identCode>
<idCodeSpace Sync="TRUE">EPSG</idCodeSpace>
<idVersion Sync="TRUE">6.12(9.0.0)</idVersion>
</refSysID>
</RefSystem>
</refSysInfo>
<contInfo>
<CovDesc>
<attDesc>REQUIRED: At a minimum, provide a detailed text description of the features and attributes included within the data including definitions of feature and attribute labels. Preferably, provide a detailed Entity Attribute Description (CSDGM) or Feature Catalog (ISO 19110) record. The Feature Catalog record may be incorporated into the metadata record, made available via a Citation, or indicated as included with the data.</attDesc>
<contentTyp>
<ContentTypCd value="002">
</ContentTypCd>
</contentTyp>
</CovDesc>
</contInfo>
<spdoinfo>
<rastinfo>
<rasttype Sync="TRUE">Pixel</rasttype>
<rowcount Sync="TRUE">321125</rowcount>
<colcount Sync="TRUE">822366</colcount>
<rastxsz Sync="TRUE">3.280833</rastxsz>
<rastysz Sync="TRUE">3.280833</rastysz>
<rastbpp Sync="TRUE">1</rastbpp>
<vrtcount Sync="TRUE">1</vrtcount>
<rastorig Sync="TRUE">Upper Left</rastorig>
<rastcmap Sync="TRUE">FALSE</rastcmap>
<rastcomp Sync="TRUE">LZ77</rastcomp>
<rastband Sync="TRUE">1</rastband>
<rastdtyp Sync="TRUE">pixel codes</rastdtyp>
<rastifor Sync="TRUE">FGDBR</rastifor>
<rastplyr Sync="TRUE">TRUE</rastplyr>
</rastinfo>
</spdoinfo>
<spref>
<horizsys>
<planar>
<planci>
<plance Sync="TRUE">row and column</plance>
<coordrep>
<absres Sync="TRUE">3.280833</absres>
<ordres Sync="TRUE">3.280833</ordres>
</coordrep>
</planci>
</planar>
</horizsys>
</spref>
</metadata>
