{
 "currentVersion": 10.91,
 "serviceDescription": "This dataset was created by the North Carolina Department of Agriculture and Consumer Services. Tree land cover data was derived from the North Carolina 2016 NAIP image tiles for the entire state. The data is currently in a raster format in an ESRI file geodatabase.",
 "name": "General/2016_Forest_Land_Cover",
 "description": "This dataset was created by the North Carolina Department of Agriculture and Consumer Services. Tree land cover data was derived from the North Carolina 2016 NAIP image tiles for the entire state. The data is currently in a raster format in an ESRI file geodatabase.",
 "extent": {
  "xmin": 387673.4157407935,
  "ymin": 18312.25906070089,
  "xmax": 3085719.2007407937,
  "ymax": 1071869.8632273676,
  "spatialReference": {
   "wkid": 102719,
   "latestWkid": 2264
  }
 },
 "initialExtent": {
  "xmin": 387673.4157407935,
  "ymin": 18312.25906070089,
  "xmax": 3085719.2007407937,
  "ymax": 1071869.8632273676,
  "spatialReference": {
   "wkid": 102719,
   "latestWkid": 2264
  }
 },
 "fullExtent": {
  "xmin": 387673.4157407935,
  "ymin": 18312.25906070089,
  "xmax": 3085719.2007407937,
  "ymax": 1071869.8632273676,
  "spatialReference": {
   "wkid": 102719,
   "latestWkid": 2264
  }
 },
 "pixelSizeX": 3.2808333333333337,
 "pixelSizeY": 3.2808333333333337,
 "bandCount": 1,
 "pixelType": "U1",
 "minPixelSize": 0,
 "maxPixelSize": 0,
 "copyrightText": "North Carolina Department of Agriculture & Consumer Services (NCDA&CS) and Frank Obusek (contractor)",
 "serviceDataType": "esriImageServiceDataTypeGeneric",
 "minValues": [
  0
 ],
 "maxValues": [
  1
 ],
 "meanValues": [
  0.5783232477811736
 ],
 "stdvValues": [
  0.49382736746634065
 ],
 "objectIdField": "",
 "fields": [],
 "capabilities": "Image,Metadata,Mensuration",
 "defaultMosaicMethod": "Center",
 "allowedMosaicMethods": "",
 "sortField": "",
 "sortValue": null,
 "sortAscending": true,
 "mosaicOperator": "First",
 "defaultCompressionQuality": 75,
 "defaultResamplingMethod": "Bilinear",
 "maxImageHeight": 4100,
 "maxImageWidth": 15000,
 "allowRasterFunction": true,
 "rasterFunctionInfos": [
  {
   "name": "NAIP_Tree_Cover",
   "description": "A raster function template.",
   "help": ""
  },
  {
   "name": "None",
   "description": "",
   "help": ""
  }
 ],
 "rasterTypeInfos": [
  {
   "name": "Raster Dataset",
   "description": "Supports all ArcGIS Raster Datasets",
   "help": ""
  }
 ],
 "mensurationCapabilities": "Basic",
 "hasHistograms": true,
 "hasColormap": false,
 "hasRasterAttributeTable": true,
 "minScale": 0,
 "maxScale": 0,
 "exportTilesAllowed": false,
 "hasMultidimensions": false,
 "supportsStatistics": false,
 "supportsAdvancedQueries": false,
 "editFieldsInfo": null,
 "ownershipBasedAccessControlForRasters": null,
 "allowComputeTiePoints": false,
 "useStandardizedQueries": true,
 "advancedQueryCapabilities": {
  "useStandardizedQueries": true,
  "supportsStatistics": false,
  "supportsOrderBy": false,
  "supportsDistinct": false,
  "supportsPagination": false
 },
 "spatialReference": {
  "wkid": 102719,
  "latestWkid": 2264
 }
}
